BEGIN:VCALENDAR
VERSION:2.0
PRODID:-//The Protect Our Communities Foundation - ECPv6.15.20//NONSGML v1.0//EN
CALSCALE:GREGORIAN
METHOD:PUBLISH
X-WR-CALNAME:The Protect Our Communities Foundation
X-ORIGINAL-URL:https://protectourcommunities.org
X-WR-CALDESC:Events for The Protect Our Communities Foundation
REFRESH-INTERVAL;VALUE=DURATION:PT1H
X-Robots-Tag:noindex
X-PUBLISHED-TTL:PT1H
BEGIN:VTIMEZONE
TZID:America/Los_Angeles
BEGIN:DAYLIGHT
TZOFFSETFROM:-0800
TZOFFSETTO:-0700
TZNAME:PDT
DTSTART:20250309T100000
END:DAYLIGHT
BEGIN:STANDARD
TZOFFSETFROM:-0700
TZOFFSETTO:-0800
TZNAME:PST
DTSTART:20251102T090000
END:STANDARD
BEGIN:DAYLIGHT
TZOFFSETFROM:-0800
TZOFFSETTO:-0700
TZNAME:PDT
DTSTART:20260308T100000
END:DAYLIGHT
BEGIN:STANDARD
TZOFFSETFROM:-0700
TZOFFSETTO:-0800
TZNAME:PST
DTSTART:20261101T090000
END:STANDARD
BEGIN:DAYLIGHT
TZOFFSETFROM:-0800
TZOFFSETTO:-0700
TZNAME:PDT
DTSTART:20270314T100000
END:DAYLIGHT
BEGIN:STANDARD
TZOFFSETFROM:-0700
TZOFFSETTO:-0800
TZNAME:PST
DTSTART:20271107T090000
END:STANDARD
END:VTIMEZONE
BEGIN:VEVENT
DTSTART;TZID=America/Los_Angeles:20260430T110000
DTEND;TZID=America/Los_Angeles:20260430T170000
DTSTAMP:20260419T111221
CREATED:20260226T075853Z
LAST-MODIFIED:20260228T000600Z
UID:10000013-1777546800-1777568400@protectourcommunities.org
SUMMARY:CPUC Voting Meeting
DESCRIPTION:The CPUC Voting Meetings are public proceedings hosted by the California Public Utilities Commission where Commissioners formally vote on proposed decisions affecting California’s utilities and energy policies. These meetings play a critical role in shaping regulations related to electricity rates\, wildfire safety\, clean energy programs\, infrastructure investments\, and consumer protections. For organizations like The Protect Our Communities Foundation\, these meetings are especially important because decisions made by the Commission directly impact utility accountability\, environmental safeguards\, and the affordability of energy for California residents. \nCommunity members\, advocates\, and stakeholders are encouraged to follow and listen to these meetings to stay informed about pending votes and policy changes. Agendas\, meeting access details\, and supporting documents can be found on the CPUC Voting Meetings webpage. \nClick here to view webpage
URL:https://protectourcommunities.org/event/cpuc-voting-meeting/2026-04-30/
CATEGORIES:Meeting
ATTACH;FMTTYPE=image/jpeg:https://protectourcommunities.org/wp-content/uploads/2026/02/CPUC_HQ_rev_tall.jpg
END:VEVENT
BEGIN:VEVENT
DTSTART;TZID=America/Los_Angeles:20260514T110000
DTEND;TZID=America/Los_Angeles:20260514T170000
DTSTAMP:20260419T111221
CREATED:20260226T075853Z
LAST-MODIFIED:20260228T000600Z
UID:10000014-1778756400-1778778000@protectourcommunities.org
SUMMARY:CPUC Voting Meeting
DESCRIPTION:The CPUC Voting Meetings are public proceedings hosted by the California Public Utilities Commission where Commissioners formally vote on proposed decisions affecting California’s utilities and energy policies. These meetings play a critical role in shaping regulations related to electricity rates\, wildfire safety\, clean energy programs\, infrastructure investments\, and consumer protections. For organizations like The Protect Our Communities Foundation\, these meetings are especially important because decisions made by the Commission directly impact utility accountability\, environmental safeguards\, and the affordability of energy for California residents. \nCommunity members\, advocates\, and stakeholders are encouraged to follow and listen to these meetings to stay informed about pending votes and policy changes. Agendas\, meeting access details\, and supporting documents can be found on the CPUC Voting Meetings webpage. \nClick here to view webpage
URL:https://protectourcommunities.org/event/cpuc-voting-meeting/2026-05-14/
CATEGORIES:Meeting
ATTACH;FMTTYPE=image/jpeg:https://protectourcommunities.org/wp-content/uploads/2026/02/CPUC_HQ_rev_tall.jpg
END:VEVENT
BEGIN:VEVENT
DTSTART;VALUE=DATE:20260515
DTEND;VALUE=DATE:20260516
DTSTAMP:20260419T111221
CREATED:20260226T081404Z
LAST-MODIFIED:20260227T020919Z
UID:10000027-1778803200-1778889599@protectourcommunities.org
SUMMARY:SDG&E files its Test Year 2028 General Rate Case (TY28 GRC)
DESCRIPTION:
URL:https://protectourcommunities.org/event/sdge-files-its-test-year-2028-general-rate-case-ty28-grc/
CATEGORIES:CPUC
ATTACH;FMTTYPE=image/jpeg:https://protectourcommunities.org/wp-content/uploads/2026/02/pexels-photo-271168-271168.jpg
END:VEVENT
BEGIN:VEVENT
DTSTART;TZID=America/Los_Angeles:20260527T090000
DTEND;TZID=America/Los_Angeles:20260527T090000
DTSTAMP:20260419T111221
CREATED:20260226T081730Z
LAST-MODIFIED:20260227T021258Z
UID:10000028-1779872400-1779872400@protectourcommunities.org
SUMMARY:Evidentiary Hearings in Track 3 of SDG&E’s Test Year 2024 General Rate Case (TY24 GRC)
DESCRIPTION:
URL:https://protectourcommunities.org/event/evidentiary-hearings-in-track-3-of-sdges-test-year-2024-general-rate-case-ty24-grc/2026-05-27/
CATEGORIES:CPUC
ATTACH;FMTTYPE=image/jpeg:https://protectourcommunities.org/wp-content/uploads/2026/02/pexels-photo-271168-271168.jpg
END:VEVENT
BEGIN:VEVENT
DTSTART;TZID=America/Los_Angeles:20260528T090000
DTEND;TZID=America/Los_Angeles:20260528T170000
DTSTAMP:20260419T111221
CREATED:20260226T081730Z
LAST-MODIFIED:20260227T021258Z
UID:10000029-1779958800-1779987600@protectourcommunities.org
SUMMARY:Evidentiary Hearings in Track 3 of SDG&E’s Test Year 2024 General Rate Case (TY24 GRC)
DESCRIPTION:
URL:https://protectourcommunities.org/event/evidentiary-hearings-in-track-3-of-sdges-test-year-2024-general-rate-case-ty24-grc/2026-05-28/
CATEGORIES:CPUC
ATTACH;FMTTYPE=image/jpeg:https://protectourcommunities.org/wp-content/uploads/2026/02/pexels-photo-271168-271168.jpg
END:VEVENT
BEGIN:VEVENT
DTSTART;TZID=America/Los_Angeles:20260529T090000
DTEND;TZID=America/Los_Angeles:20260529T170000
DTSTAMP:20260419T111221
CREATED:20260226T081730Z
LAST-MODIFIED:20260227T021258Z
UID:10000030-1780045200-1780074000@protectourcommunities.org
SUMMARY:Evidentiary Hearings in Track 3 of SDG&E’s Test Year 2024 General Rate Case (TY24 GRC)
DESCRIPTION:
URL:https://protectourcommunities.org/event/evidentiary-hearings-in-track-3-of-sdges-test-year-2024-general-rate-case-ty24-grc/2026-05-29/
CATEGORIES:CPUC
ATTACH;FMTTYPE=image/jpeg:https://protectourcommunities.org/wp-content/uploads/2026/02/pexels-photo-271168-271168.jpg
END:VEVENT
BEGIN:VEVENT
DTSTART;TZID=America/Los_Angeles:20260611T110000
DTEND;TZID=America/Los_Angeles:20260611T170000
DTSTAMP:20260419T111221
CREATED:20260226T075853Z
LAST-MODIFIED:20260228T000600Z
UID:10000015-1781175600-1781197200@protectourcommunities.org
SUMMARY:CPUC Voting Meeting
DESCRIPTION:The CPUC Voting Meetings are public proceedings hosted by the California Public Utilities Commission where Commissioners formally vote on proposed decisions affecting California’s utilities and energy policies. These meetings play a critical role in shaping regulations related to electricity rates\, wildfire safety\, clean energy programs\, infrastructure investments\, and consumer protections. For organizations like The Protect Our Communities Foundation\, these meetings are especially important because decisions made by the Commission directly impact utility accountability\, environmental safeguards\, and the affordability of energy for California residents. \nCommunity members\, advocates\, and stakeholders are encouraged to follow and listen to these meetings to stay informed about pending votes and policy changes. Agendas\, meeting access details\, and supporting documents can be found on the CPUC Voting Meetings webpage. \nClick here to view webpage
URL:https://protectourcommunities.org/event/cpuc-voting-meeting/2026-06-11/
CATEGORIES:Meeting
ATTACH;FMTTYPE=image/jpeg:https://protectourcommunities.org/wp-content/uploads/2026/02/CPUC_HQ_rev_tall.jpg
END:VEVENT
BEGIN:VEVENT
DTSTART;TZID=America/Los_Angeles:20260702T110000
DTEND;TZID=America/Los_Angeles:20260702T170000
DTSTAMP:20260419T111221
CREATED:20260226T075853Z
LAST-MODIFIED:20260228T000600Z
UID:10000016-1782990000-1783011600@protectourcommunities.org
SUMMARY:CPUC Voting Meeting
DESCRIPTION:The CPUC Voting Meetings are public proceedings hosted by the California Public Utilities Commission where Commissioners formally vote on proposed decisions affecting California’s utilities and energy policies. These meetings play a critical role in shaping regulations related to electricity rates\, wildfire safety\, clean energy programs\, infrastructure investments\, and consumer protections. For organizations like The Protect Our Communities Foundation\, these meetings are especially important because decisions made by the Commission directly impact utility accountability\, environmental safeguards\, and the affordability of energy for California residents. \nCommunity members\, advocates\, and stakeholders are encouraged to follow and listen to these meetings to stay informed about pending votes and policy changes. Agendas\, meeting access details\, and supporting documents can be found on the CPUC Voting Meetings webpage. \nClick here to view webpage
URL:https://protectourcommunities.org/event/cpuc-voting-meeting/2026-07-02/
CATEGORIES:Meeting
ATTACH;FMTTYPE=image/jpeg:https://protectourcommunities.org/wp-content/uploads/2026/02/CPUC_HQ_rev_tall.jpg
END:VEVENT
BEGIN:VEVENT
DTSTART;TZID=America/Los_Angeles:20260716T110000
DTEND;TZID=America/Los_Angeles:20260716T170000
DTSTAMP:20260419T111221
CREATED:20260226T075853Z
LAST-MODIFIED:20260228T000600Z
UID:10000017-1784199600-1784221200@protectourcommunities.org
SUMMARY:CPUC Voting Meeting
DESCRIPTION:The CPUC Voting Meetings are public proceedings hosted by the California Public Utilities Commission where Commissioners formally vote on proposed decisions affecting California’s utilities and energy policies. These meetings play a critical role in shaping regulations related to electricity rates\, wildfire safety\, clean energy programs\, infrastructure investments\, and consumer protections. For organizations like The Protect Our Communities Foundation\, these meetings are especially important because decisions made by the Commission directly impact utility accountability\, environmental safeguards\, and the affordability of energy for California residents. \nCommunity members\, advocates\, and stakeholders are encouraged to follow and listen to these meetings to stay informed about pending votes and policy changes. Agendas\, meeting access details\, and supporting documents can be found on the CPUC Voting Meetings webpage. \nClick here to view webpage
URL:https://protectourcommunities.org/event/cpuc-voting-meeting/2026-07-16/
CATEGORIES:Meeting
ATTACH;FMTTYPE=image/jpeg:https://protectourcommunities.org/wp-content/uploads/2026/02/CPUC_HQ_rev_tall.jpg
END:VEVENT
BEGIN:VEVENT
DTSTART;TZID=America/Los_Angeles:20260813T110000
DTEND;TZID=America/Los_Angeles:20260813T170000
DTSTAMP:20260419T111221
CREATED:20260226T075853Z
LAST-MODIFIED:20260228T000600Z
UID:10000018-1786618800-1786640400@protectourcommunities.org
SUMMARY:CPUC Voting Meeting
DESCRIPTION:The CPUC Voting Meetings are public proceedings hosted by the California Public Utilities Commission where Commissioners formally vote on proposed decisions affecting California’s utilities and energy policies. These meetings play a critical role in shaping regulations related to electricity rates\, wildfire safety\, clean energy programs\, infrastructure investments\, and consumer protections. For organizations like The Protect Our Communities Foundation\, these meetings are especially important because decisions made by the Commission directly impact utility accountability\, environmental safeguards\, and the affordability of energy for California residents. \nCommunity members\, advocates\, and stakeholders are encouraged to follow and listen to these meetings to stay informed about pending votes and policy changes. Agendas\, meeting access details\, and supporting documents can be found on the CPUC Voting Meetings webpage. \nClick here to view webpage
URL:https://protectourcommunities.org/event/cpuc-voting-meeting/2026-08-13/
CATEGORIES:Meeting
ATTACH;FMTTYPE=image/jpeg:https://protectourcommunities.org/wp-content/uploads/2026/02/CPUC_HQ_rev_tall.jpg
END:VEVENT
BEGIN:VEVENT
DTSTART;TZID=America/Los_Angeles:20260903T110000
DTEND;TZID=America/Los_Angeles:20260903T170000
DTSTAMP:20260419T111221
CREATED:20260226T075853Z
LAST-MODIFIED:20260228T000600Z
UID:10000019-1788433200-1788454800@protectourcommunities.org
SUMMARY:CPUC Voting Meeting
DESCRIPTION:The CPUC Voting Meetings are public proceedings hosted by the California Public Utilities Commission where Commissioners formally vote on proposed decisions affecting California’s utilities and energy policies. These meetings play a critical role in shaping regulations related to electricity rates\, wildfire safety\, clean energy programs\, infrastructure investments\, and consumer protections. For organizations like The Protect Our Communities Foundation\, these meetings are especially important because decisions made by the Commission directly impact utility accountability\, environmental safeguards\, and the affordability of energy for California residents. \nCommunity members\, advocates\, and stakeholders are encouraged to follow and listen to these meetings to stay informed about pending votes and policy changes. Agendas\, meeting access details\, and supporting documents can be found on the CPUC Voting Meetings webpage. \nClick here to view webpage
URL:https://protectourcommunities.org/event/cpuc-voting-meeting/2026-09-03/
CATEGORIES:Meeting
ATTACH;FMTTYPE=image/jpeg:https://protectourcommunities.org/wp-content/uploads/2026/02/CPUC_HQ_rev_tall.jpg
END:VEVENT
BEGIN:VEVENT
DTSTART;TZID=America/Los_Angeles:20260917T110000
DTEND;TZID=America/Los_Angeles:20260917T170000
DTSTAMP:20260419T111221
CREATED:20260226T075853Z
LAST-MODIFIED:20260228T000600Z
UID:10000020-1789642800-1789664400@protectourcommunities.org
SUMMARY:CPUC Voting Meeting
DESCRIPTION:The CPUC Voting Meetings are public proceedings hosted by the California Public Utilities Commission where Commissioners formally vote on proposed decisions affecting California’s utilities and energy policies. These meetings play a critical role in shaping regulations related to electricity rates\, wildfire safety\, clean energy programs\, infrastructure investments\, and consumer protections. For organizations like The Protect Our Communities Foundation\, these meetings are especially important because decisions made by the Commission directly impact utility accountability\, environmental safeguards\, and the affordability of energy for California residents. \nCommunity members\, advocates\, and stakeholders are encouraged to follow and listen to these meetings to stay informed about pending votes and policy changes. Agendas\, meeting access details\, and supporting documents can be found on the CPUC Voting Meetings webpage. \nClick here to view webpage
URL:https://protectourcommunities.org/event/cpuc-voting-meeting/2026-09-17/
CATEGORIES:Meeting
ATTACH;FMTTYPE=image/jpeg:https://protectourcommunities.org/wp-content/uploads/2026/02/CPUC_HQ_rev_tall.jpg
END:VEVENT
BEGIN:VEVENT
DTSTART;TZID=America/Los_Angeles:20261008T110000
DTEND;TZID=America/Los_Angeles:20261008T170000
DTSTAMP:20260419T111221
CREATED:20260226T075853Z
LAST-MODIFIED:20260228T000600Z
UID:10000021-1791457200-1791478800@protectourcommunities.org
SUMMARY:CPUC Voting Meeting
DESCRIPTION:The CPUC Voting Meetings are public proceedings hosted by the California Public Utilities Commission where Commissioners formally vote on proposed decisions affecting California’s utilities and energy policies. These meetings play a critical role in shaping regulations related to electricity rates\, wildfire safety\, clean energy programs\, infrastructure investments\, and consumer protections. For organizations like The Protect Our Communities Foundation\, these meetings are especially important because decisions made by the Commission directly impact utility accountability\, environmental safeguards\, and the affordability of energy for California residents. \nCommunity members\, advocates\, and stakeholders are encouraged to follow and listen to these meetings to stay informed about pending votes and policy changes. Agendas\, meeting access details\, and supporting documents can be found on the CPUC Voting Meetings webpage. \nClick here to view webpage
URL:https://protectourcommunities.org/event/cpuc-voting-meeting/2026-10-08/
CATEGORIES:Meeting
ATTACH;FMTTYPE=image/jpeg:https://protectourcommunities.org/wp-content/uploads/2026/02/CPUC_HQ_rev_tall.jpg
END:VEVENT
BEGIN:VEVENT
DTSTART;TZID=America/Los_Angeles:20261029T110000
DTEND;TZID=America/Los_Angeles:20261029T170000
DTSTAMP:20260419T111221
CREATED:20260226T075853Z
LAST-MODIFIED:20260228T000600Z
UID:10000022-1793271600-1793293200@protectourcommunities.org
SUMMARY:CPUC Voting Meeting
DESCRIPTION:The CPUC Voting Meetings are public proceedings hosted by the California Public Utilities Commission where Commissioners formally vote on proposed decisions affecting California’s utilities and energy policies. These meetings play a critical role in shaping regulations related to electricity rates\, wildfire safety\, clean energy programs\, infrastructure investments\, and consumer protections. For organizations like The Protect Our Communities Foundation\, these meetings are especially important because decisions made by the Commission directly impact utility accountability\, environmental safeguards\, and the affordability of energy for California residents. \nCommunity members\, advocates\, and stakeholders are encouraged to follow and listen to these meetings to stay informed about pending votes and policy changes. Agendas\, meeting access details\, and supporting documents can be found on the CPUC Voting Meetings webpage. \nClick here to view webpage
URL:https://protectourcommunities.org/event/cpuc-voting-meeting/2026-10-29/
CATEGORIES:Meeting
ATTACH;FMTTYPE=image/jpeg:https://protectourcommunities.org/wp-content/uploads/2026/02/CPUC_HQ_rev_tall.jpg
END:VEVENT
BEGIN:VEVENT
DTSTART;TZID=America/Los_Angeles:20261119T110000
DTEND;TZID=America/Los_Angeles:20261119T170000
DTSTAMP:20260419T111221
CREATED:20260226T075853Z
LAST-MODIFIED:20260228T000600Z
UID:10000023-1795086000-1795107600@protectourcommunities.org
SUMMARY:CPUC Voting Meeting
DESCRIPTION:The CPUC Voting Meetings are public proceedings hosted by the California Public Utilities Commission where Commissioners formally vote on proposed decisions affecting California’s utilities and energy policies. These meetings play a critical role in shaping regulations related to electricity rates\, wildfire safety\, clean energy programs\, infrastructure investments\, and consumer protections. For organizations like The Protect Our Communities Foundation\, these meetings are especially important because decisions made by the Commission directly impact utility accountability\, environmental safeguards\, and the affordability of energy for California residents. \nCommunity members\, advocates\, and stakeholders are encouraged to follow and listen to these meetings to stay informed about pending votes and policy changes. Agendas\, meeting access details\, and supporting documents can be found on the CPUC Voting Meetings webpage. \nClick here to view webpage
URL:https://protectourcommunities.org/event/cpuc-voting-meeting/2026-11-19/
CATEGORIES:Meeting
ATTACH;FMTTYPE=image/jpeg:https://protectourcommunities.org/wp-content/uploads/2026/02/CPUC_HQ_rev_tall.jpg
END:VEVENT
BEGIN:VEVENT
DTSTART;TZID=America/Los_Angeles:20261203T110000
DTEND;TZID=America/Los_Angeles:20261203T170000
DTSTAMP:20260419T111221
CREATED:20260226T075853Z
LAST-MODIFIED:20260228T000600Z
UID:10000024-1796295600-1796317200@protectourcommunities.org
SUMMARY:CPUC Voting Meeting
DESCRIPTION:The CPUC Voting Meetings are public proceedings hosted by the California Public Utilities Commission where Commissioners formally vote on proposed decisions affecting California’s utilities and energy policies. These meetings play a critical role in shaping regulations related to electricity rates\, wildfire safety\, clean energy programs\, infrastructure investments\, and consumer protections. For organizations like The Protect Our Communities Foundation\, these meetings are especially important because decisions made by the Commission directly impact utility accountability\, environmental safeguards\, and the affordability of energy for California residents. \nCommunity members\, advocates\, and stakeholders are encouraged to follow and listen to these meetings to stay informed about pending votes and policy changes. Agendas\, meeting access details\, and supporting documents can be found on the CPUC Voting Meetings webpage. \nClick here to view webpage
URL:https://protectourcommunities.org/event/cpuc-voting-meeting/2026-12-03/
CATEGORIES:Meeting
ATTACH;FMTTYPE=image/jpeg:https://protectourcommunities.org/wp-content/uploads/2026/02/CPUC_HQ_rev_tall.jpg
END:VEVENT
BEGIN:VEVENT
DTSTART;TZID=America/Los_Angeles:20261217T110000
DTEND;TZID=America/Los_Angeles:20261217T170000
DTSTAMP:20260419T111221
CREATED:20260226T075853Z
LAST-MODIFIED:20260228T000600Z
UID:10000025-1797505200-1797526800@protectourcommunities.org
SUMMARY:CPUC Voting Meeting
DESCRIPTION:The CPUC Voting Meetings are public proceedings hosted by the California Public Utilities Commission where Commissioners formally vote on proposed decisions affecting California’s utilities and energy policies. These meetings play a critical role in shaping regulations related to electricity rates\, wildfire safety\, clean energy programs\, infrastructure investments\, and consumer protections. For organizations like The Protect Our Communities Foundation\, these meetings are especially important because decisions made by the Commission directly impact utility accountability\, environmental safeguards\, and the affordability of energy for California residents. \nCommunity members\, advocates\, and stakeholders are encouraged to follow and listen to these meetings to stay informed about pending votes and policy changes. Agendas\, meeting access details\, and supporting documents can be found on the CPUC Voting Meetings webpage. \nClick here to view webpage
URL:https://protectourcommunities.org/event/cpuc-voting-meeting/2026-12-17/
CATEGORIES:Meeting
ATTACH;FMTTYPE=image/jpeg:https://protectourcommunities.org/wp-content/uploads/2026/02/CPUC_HQ_rev_tall.jpg
END:VEVENT
END:VCALENDAR